BEGIN:VCALENDAR
VERSION:2.0
PRODID:SchoolNow
CALSCALE:GREGORIAN
BEGIN:VEVENT
UID:b8af08b2-57d1-11ee-b379-0a959632f283
DTSTAMP:20240821T155247Z
SUMMARY:CDD Board Meeting - Aug. 2024
LOCATION:Somerset Academy Silver Palms\, 23255 SW 115 Avenue\, Miami\, Flor
 ida 33032
URL;VALUE=URI:https://www.spicewoodcdd.com/calendar/4766458/cdd-board-meeti
 ng-aug-2024
DTSTART:20240828T222000Z
DTEND:20240828T232000Z
ATTACH;FILENAME=2024-08-28 Spicewood CDD Agenda.pdf;FMTTYPE=application/pdf
 :https://campussuite-storage.s3.amazonaws.com/prod/1559032/a5a8ad32-a3b5-1
 1ea-8a29-12517638b2cf/2834266/664635ca-5fd5-11ef-b3a7-0a58a9feac02/file/20
 24-08-28 Spicewood CDD Agenda.pdf
END:VEVENT
END:VCALENDAR
